BEGIN:VCALENDAR
VERSION:2.0
PRODID:-//Plone.org//NONSGML plone.app.event//EN
X-WR-TIMEZONE:Europe/Vienna
BEGIN:VEVENT
SUMMARY:The Academy at BeSt 2026
DTSTART;VALUE=DATE:20260312
DTEND;VALUE=DATE:20260316
DTSTAMP:20260421T170823Z
UID:74d4e44c4b32433aa4ffbd27a37bb666@www.akbild.ac.at
CATEGORIES:Studieninformationen
CREATED:20250206T093925Z
DESCRIPTION:Students of the Academy of Fine Arts Vienna will be advising i
 nterested parties on the study programmes at Austria's renowned art univer
 sity.
LAST-MODIFIED:20260316T080942Z
URL:https://www.akbild.ac.at/en/university/events/exhibitions_didacticprog
 ram/2026/the-academy-at-best-2026
END:VEVENT
END:VCALENDAR
