BEGIN:VCALENDAR
VERSION:2.0
PRODID:-//Plone.org//NONSGML plone.app.event//EN
X-WR-TIMEZONE:Europe/Vienna
BEGIN:VEVENT
SUMMARY:Theory and Affect
DTSTART;VALUE=DATE:20080118
DTEND;VALUE=DATE:20080119
DTSTAMP:20260419T160647Z
UID:843c39850ebecfead65cdf759bebba8d@www.akbild.ac.at
CATEGORIES:Vorträge / Veranstaltungen
CREATED:20220312T164814Z
DESCRIPTION:Conference at the Academy of Fine Arts Vienna\n \n Concept: Ma
 rie-Luise Angerer\, Sabeth Buchmann\n \n Organization: Dunja Reithner\, Ka
 tharina Opara
LAST-MODIFIED:20240802T103035Z
URL:https://www.akbild.ac.at/en/university/events/lectures_events/2008/the
 ory-and-affect
END:VEVENT
END:VCALENDAR
