BEGIN:VCALENDAR
VERSION:2.0
PRODID:-//Plone.org//NONSGML plone.app.event//EN
X-WR-TIMEZONE:Europe/Vienna
BEGIN:VEVENT
SUMMARY:Forgetting Architecture
DTSTART;TZID=Europe/Vienna:20100315T190000
DTSTAMP:20260425T151932Z
UID:3b3c0d11b2f6d6d49012e0c6858713d4@www.akbild.ac.at
CATEGORIES:Vorträge / Veranstaltungen
CREATED:20220312T165053Z
DESCRIPTION:Lecture by Angelika Schnell from the Institute for Art and Arc
 hitecture (in english)
LAST-MODIFIED:20240802T103034Z
URL:https://www.akbild.ac.at/en/university/events/lectures_events/2010/for
 getting-architecture
END:VEVENT
BEGIN:VTIMEZONE
TZID:Europe/Vienna
X-LIC-LOCATION:Europe/Vienna
BEGIN:STANDARD
DTSTART:20091025T020000
TZNAME:CET
TZOFFSETFROM:+0200
TZOFFSETTO:+0100
END:STANDARD
END:VTIMEZONE
END:VCALENDAR
