BEGIN:VCALENDAR
VERSION:2.0
PRODID:-//Plone.org//NONSGML plone.app.event//EN
X-WR-TIMEZONE:Europe/Vienna
BEGIN:VEVENT
SUMMARY:Michelle Kuo | Research and Development. Experiments in Art and Te
 chnology\, 1966ff.
DTSTART;TZID=Europe/Vienna:20100622T190000
DTSTAMP:20260424T161844Z
UID:3f529d16955c3134cde789c51b11144f@www.akbild.ac.at
CATEGORIES:Vorträge / Veranstaltungen
CREATED:20220312T165207Z
DESCRIPTION:Lecture (English) within the framework of the WWTF/Art(s) &amp
 \; Sciences research project "Troubling Research. Performing Knowledge in 
 the Arts"
LAST-MODIFIED:20240802T103034Z
URL:https://www.akbild.ac.at/en/university/events/lectures_events/2010/mic
 helle-kuo-research-and-development-experiments-in-art-and-technology-1966f
 f
END:VEVENT
BEGIN:VTIMEZONE
TZID:Europe/Vienna
X-LIC-LOCATION:Europe/Vienna
BEGIN:DAYLIGHT
DTSTART:20100328T030000
TZNAME:CEST
TZOFFSETFROM:+0100
TZOFFSETTO:+0200
END:DAYLIGHT
END:VTIMEZONE
END:VCALENDAR
