BEGIN:VCALENDAR
VERSION:2.0
PRODID:-//Plone.org//NONSGML plone.app.event//EN
X-WR-TIMEZONE:Europe/Vienna
BEGIN:VEVENT
SUMMARY:Open days 2010
DTSTART;VALUE=DATE:20100121
DTEND;VALUE=DATE:20100125
DTSTAMP:20260423T173329Z
UID:685bbd4958c3ac0d06b4e5ccd14f0415@www.akbild.ac.at
CATEGORIES:Vorträge / Veranstaltungen
CREATED:20220312T165036Z
DESCRIPTION:Thu\, 21.01.\, 4 - 12 pm (main building and studiobuilding Leh
 àrgasse)\n \n Fri\, 22.01.\, 10 am - 8 pm\n \n Sat\, 23.01.\, 12 noon - 8
  pm\n \n Sun\, 24.01.\, 12 noon - 8 pm
LAST-MODIFIED:20240802T103034Z
URL:https://www.akbild.ac.at/en/university/events/lectures_events/2010/ope
 n-days-2010
END:VEVENT
END:VCALENDAR
