BEGIN:VCALENDAR
VERSION:2.0
PRODID:-//Plone.org//NONSGML plone.app.event//EN
X-WR-TIMEZONE:Europe/Vienna
BEGIN:VEVENT
SUMMARY:The meta-artists'talk
DTSTART;TZID=Europe/Vienna:20101116T150000
DTSTAMP:20260423T123543Z
UID:1f5266824fa7e5bbb1e3e3b55dbb87be@www.akbild.ac.at
CATEGORIES:Vorträge / Veranstaltungen
CREATED:20220312T165232Z
DESCRIPTION:Guest lecture and Discussion by Khadija Carroll La organized b
 y the Institute for Fine Arts\, Performative Art and Sculpture\, Univ. Pro
 f. Monica Bonvicini.
LAST-MODIFIED:20240802T103034Z
URL:https://www.akbild.ac.at/en/university/events/lectures_events/2010/the
 -meta-artists-talk
END:VEVENT
BEGIN:VTIMEZONE
TZID:Europe/Vienna
X-LIC-LOCATION:Europe/Vienna
BEGIN:STANDARD
DTSTART:20101031T020000
TZNAME:CET
TZOFFSETFROM:+0200
TZOFFSETTO:+0100
END:STANDARD
END:VTIMEZONE
END:VCALENDAR
