BEGIN:VCALENDAR
VERSION:2.0
PRODID:-//Plone.org//NONSGML plone.app.event//EN
X-WR-TIMEZONE:Europe/Vienna
BEGIN:VEVENT
SUMMARY:Gravity & Grace by Chris Kraus
DTSTART;TZID=Europe/Vienna:20110115T180000
DTSTAMP:20260423T143844Z
UID:40e3889e24f2058058501c49282bd726@www.akbild.ac.at
CATEGORIES:Vorträge / Veranstaltungen
CREATED:20220312T165321Z
DESCRIPTION:Filmpresentation organized by the Institute for Art Theory and
  Cultural Studies.
LAST-MODIFIED:20240802T103030Z
URL:https://www.akbild.ac.at/en/university/events/lectures_events/2011/gra
 vity-grace-by-chris-kraus
END:VEVENT
BEGIN:VTIMEZONE
TZID:Europe/Vienna
X-LIC-LOCATION:Europe/Vienna
BEGIN:STANDARD
DTSTART:20101031T020000
TZNAME:CET
TZOFFSETFROM:+0200
TZOFFSETTO:+0100
END:STANDARD
END:VTIMEZONE
END:VCALENDAR
