BEGIN:VCALENDAR
VERSION:2.0
PRODID:-//Plone.org//NONSGML plone.app.event//EN
X-WR-TIMEZONE:Europe/Vienna
BEGIN:VEVENT
SUMMARY:Imperfecting Practice\, Implicating Theory
DTSTART;TZID=Europe/Vienna:20110413T190000
DTSTAMP:20260423T125405Z
UID:d93c77a100537918d114919fe9facd3c@www.akbild.ac.at
CATEGORIES:Vorträge / Veranstaltungen
CREATED:20220312T165324Z
DESCRIPTION:Lecture by Adrian Rifkin\, presented and hosted by “Troublin
 g Research. Performing Knowledge in the Arts”\, a research project funde
 d by WWTF Art(s) &amp\; Sciences and based at the Academy of Fine Arts Vie
 nna.
LAST-MODIFIED:20240802T103030Z
URL:https://www.akbild.ac.at/en/university/events/lectures_events/2011/imp
 erfecting-practice-implicating-theory
END:VEVENT
BEGIN:VTIMEZONE
TZID:Europe/Vienna
X-LIC-LOCATION:Europe/Vienna
BEGIN:DAYLIGHT
DTSTART:20110327T030000
TZNAME:CEST
TZOFFSETFROM:+0100
TZOFFSETTO:+0200
END:DAYLIGHT
END:VTIMEZONE
END:VCALENDAR
