BEGIN:VCALENDAR
VERSION:2.0
PRODID:-//Plone.org//NONSGML plone.app.event//EN
X-WR-TIMEZONE:Europe/Vienna
BEGIN:VEVENT
SUMMARY:The Artist Lecture Series Vienna presents Svenja Deininger
DTSTART;TZID=Europe/Vienna:20120704T190000
DTSTAMP:20260423T101040Z
UID:a2abbd78e3a939f05b712b413a9f3820@www.akbild.ac.at
CATEGORIES:Vorträge / Veranstaltungen
CREATED:20220312T165625Z
DESCRIPTION:Organized by Rainer and Ezara Spangl\, in cooperation with the
  Institute of Fine Arts\, Abstract Painting.
LAST-MODIFIED:20240802T103030Z
URL:https://www.akbild.ac.at/en/university/events/lectures_events/2012/the
 -artist-lecture-series-vienna-presents-svenja-deininger
END:VEVENT
BEGIN:VTIMEZONE
TZID:Europe/Vienna
X-LIC-LOCATION:Europe/Vienna
BEGIN:DAYLIGHT
DTSTART:20120325T030000
TZNAME:CEST
TZOFFSETFROM:+0100
TZOFFSETTO:+0200
END:DAYLIGHT
END:VTIMEZONE
END:VCALENDAR
