BEGIN:VCALENDAR
VERSION:2.0
PRODID:-//Plone.org//NONSGML plone.app.event//EN
X-WR-TIMEZONE:Europe/Vienna
BEGIN:VEVENT
SUMMARY:Vital Shelter
DTSTART;TZID=Europe/Vienna:20120615T180000
DTSTAMP:20260419T162133Z
UID:38df359e67e9b056346d06b88d2591da@www.akbild.ac.at
CATEGORIES:Vorträge / Veranstaltungen
CREATED:20220312T165619Z
DESCRIPTION:Lecture by Ryo Abe organized by the Institute for Art and Arch
 itecture\, Platform for Geography\, Landscape\, Cities.
LAST-MODIFIED:20240802T103030Z
URL:https://www.akbild.ac.at/en/university/events/lectures_events/2012/vit
 al-shelter
END:VEVENT
BEGIN:VTIMEZONE
TZID:Europe/Vienna
X-LIC-LOCATION:Europe/Vienna
BEGIN:DAYLIGHT
DTSTART:20120325T030000
TZNAME:CEST
TZOFFSETFROM:+0100
TZOFFSETTO:+0200
END:DAYLIGHT
END:VTIMEZONE
END:VCALENDAR
