BEGIN:VCALENDAR
VERSION:2.0
PRODID:-//Plone.org//NONSGML plone.app.event//EN
X-WR-TIMEZONE:Europe/Vienna
BEGIN:VEVENT
SUMMARY:Weblaunch transculturalmodernism.org
DTSTART;TZID=Europe/Vienna:20120306T190000
DTSTAMP:20260419T132203Z
UID:cf824c86da18d29590c225a98afbfccc@www.akbild.ac.at
CATEGORIES:Vorträge / Veranstaltungen
CREATED:20220312T165501Z
DESCRIPTION:Web launch with architect Gabu Heindl and the research team fr
 om the WWTF research project: Model House - Mapping Transcultural Modernis
 ms\n \n Participants: Fahim Amir\, Eva Egermann\, Moira Hille\, Christian 
 Kravagna\, Johannes Köck\, Jakob Krameritsch\, Christina Linortner\, Pete
 r Spillmann\, Michael Vögeli and Marion von Osten\n \n Discussant: Gabu H
 eindl\, architect and urbanist
LAST-MODIFIED:20240802T103030Z
URL:https://www.akbild.ac.at/en/university/events/lectures_events/2012/web
 launch-transculturalmodernism.org
END:VEVENT
BEGIN:VTIMEZONE
TZID:Europe/Vienna
X-LIC-LOCATION:Europe/Vienna
BEGIN:STANDARD
DTSTART:20111030T020000
TZNAME:CET
TZOFFSETFROM:+0200
TZOFFSETTO:+0100
END:STANDARD
END:VTIMEZONE
END:VCALENDAR
