BEGIN:VCALENDAR
VERSION:2.0
PRODID:-//Plone.org//NONSGML plone.app.event//EN
X-WR-TIMEZONE:Europe/Vienna
BEGIN:VEVENT
SUMMARY:Conference Doing Memory – Art\, Research and the Politics of Mem
 ory and History.
DTSTART;VALUE=DATE:20130613
DTEND;VALUE=DATE:20130616
DTSTAMP:20260423T100948Z
UID:788a705bbdf85b51c95b593d84871d6f@www.akbild.ac.at
CATEGORIES:Vorträge / Veranstaltungen
CREATED:20220312T165738Z
DESCRIPTION:Conference based on two years of research and art production i
 n the framework “MemScreen”\, a project financed by the Austrian Scien
 ce Fund (FWF) in the frame of the art-based research program (PEEK) 2011-2
 013 and is located at the Academy of Fine Arts in Vienna.
LAST-MODIFIED:20240802T103026Z
URL:https://www.akbild.ac.at/en/university/events/lectures_events/2013/doi
 ng-memory-artistic-practices-in-the-politics-of-memory-and-history
END:VEVENT
END:VCALENDAR
