BEGIN:VCALENDAR
VERSION:2.0
PRODID:-//Plone.org//NONSGML plone.app.event//EN
X-WR-TIMEZONE:Europe/Vienna
BEGIN:VEVENT
SUMMARY:How to become a curator? Educational approaches to curating contem
 porary art
DTSTART;TZID=Europe/Vienna:20131115T193000
DTSTAMP:20260425T032256Z
UID:80d47c5a2ebefcaf269c17d035427ffb@www.akbild.ac.at
CATEGORIES:Vorträge / Veranstaltungen
CREATED:20220312T165808Z
DESCRIPTION:A public lecture by ERSTE Stiftung in English.\n \n Free entry
 .
LAST-MODIFIED:20240802T103026Z
URL:https://www.akbild.ac.at/en/university/events/lectures_events/2013/how
 -to-become-a-curator-educational-approaches-to-curating-contemporary-art
END:VEVENT
BEGIN:VTIMEZONE
TZID:Europe/Vienna
X-LIC-LOCATION:Europe/Vienna
BEGIN:STANDARD
DTSTART:20131027T020000
TZNAME:CET
TZOFFSETFROM:+0200
TZOFFSETTO:+0100
END:STANDARD
END:VTIMEZONE
END:VCALENDAR
