BEGIN:VCALENDAR
VERSION:2.0
PRODID:-//Plone.org//NONSGML plone.app.event//EN
X-WR-TIMEZONE:Europe/Vienna
BEGIN:VEVENT
SUMMARY:Lina Bo Bardi. Educating Spaces
DTSTART;TZID=Europe/Vienna:20130529T160000
DTEND;TZID=Europe/Vienna:20130529T210000
DTSTAMP:20260424T113020Z
UID:55a781debf0a6d72c7f4daa7291b70df@www.akbild.ac.at
CREATED:20220312T165732Z
DESCRIPTION:Symposium on the occasion of the exhibition "Lina Bo Bardi: To
 gether" at Architekturzentrum Wien.
LAST-MODIFIED:20240802T103026Z
URL:https://www.akbild.ac.at/en/university/events/lectures_events/2013/lin
 a-bo-bardi-educating-spaces
END:VEVENT
BEGIN:VTIMEZONE
TZID:Europe/Vienna
X-LIC-LOCATION:Europe/Vienna
BEGIN:DAYLIGHT
DTSTART:20130331T030000
TZNAME:CEST
TZOFFSETFROM:+0100
TZOFFSETTO:+0200
END:DAYLIGHT
END:VTIMEZONE
END:VCALENDAR
