BEGIN:VCALENDAR
VERSION:2.0
PRODID:-//Plone.org//NONSGML plone.app.event//EN
X-WR-TIMEZONE:Europe/Vienna
BEGIN:VEVENT
SUMMARY:International Conference THE GIRL ON ‚SUBJECT’=???
DTSTART;VALUE=DATE:20131122
DTEND;VALUE=DATE:20131124
DTSTAMP:20260425T152227Z
UID:f1d79676e858baddda47ad74ee2072ec@www.akbild.ac.at
CATEGORIES:Vorträge / Veranstaltungen
CREATED:20220312T165812Z
DESCRIPTION:An event in the context of the key topic "The girl as artist a
 nd performer. Worlds of artistic de/subjectivization". Held in English lan
 guage
LAST-MODIFIED:20240802T103026Z
URL:https://www.akbild.ac.at/en/university/events/lectures_events/2013/sym
 posium-the-girl-on-subject-perspectives-of-radical-ontologies
END:VEVENT
END:VCALENDAR
