BEGIN:VCALENDAR
VERSION:2.0
PRODID:-//Plone.org//NONSGML plone.app.event//EN
X-WR-TIMEZONE:Europe/Vienna
BEGIN:VEVENT
SUMMARY:Linda Williams | Motion and E-motion: A Feminist Perspective on th
 e “Frenzy of the Visible”
DTSTART;TZID=Europe/Vienna:20170620T180000
DTSTAMP:20260424T055900Z
UID:8d655e7dd3d6fe3257a89a13404a5eb6@www.akbild.ac.at
CATEGORIES:Vorträge / Veranstaltungen
CREATED:20220312T170055Z
DESCRIPTION:Organized by the Network for the Advancement of Women.
LAST-MODIFIED:20240802T103026Z
URL:https://www.akbild.ac.at/en/university/events/lectures_events/2017/lin
 da-williams-motion-and-e-motion-a-feminist-perspective-on-the-frenzy-of-th
 e-visible
END:VEVENT
BEGIN:VTIMEZONE
TZID:Europe/Vienna
X-LIC-LOCATION:Europe/Vienna
BEGIN:DAYLIGHT
DTSTART:20170326T030000
TZNAME:CEST
TZOFFSETFROM:+0100
TZOFFSETTO:+0200
END:DAYLIGHT
END:VTIMEZONE
END:VCALENDAR
