BEGIN:VCALENDAR
VERSION:2.0
PRODID:-//Plone.org//NONSGML plone.app.event//EN
X-WR-TIMEZONE:Europe/Vienna
BEGIN:VEVENT
SUMMARY:Erasmus Day
DTSTART;TZID=Europe/Vienna:20191011T110000
DTEND;TZID=Europe/Vienna:20191011T130000
DTSTAMP:20260424T151513Z
UID:146dbba9a2e0b4b23e2e692bc0b5544e@www.akbild.ac.at
CATEGORIES:Vorträge / Veranstaltungen
CREATED:20220312T170122Z
DESCRIPTION:Erasmus+ – one of the most successful mobility programmes of
  the world to be celebrated across Europe at the same day.
LAST-MODIFIED:20240802T103026Z
URL:https://www.akbild.ac.at/en/university/events/lectures_events/2019/era
 smus-day
END:VEVENT
BEGIN:VTIMEZONE
TZID:Europe/Vienna
X-LIC-LOCATION:Europe/Vienna
BEGIN:DAYLIGHT
DTSTART:20190331T030000
TZNAME:CEST
TZOFFSETFROM:+0100
TZOFFSETTO:+0200
END:DAYLIGHT
END:VTIMEZONE
END:VCALENDAR
