BEGIN:VCALENDAR
VERSION:2.0
PRODID:-//Plone.org//NONSGML plone.app.event//EN
X-WR-TIMEZONE:Europe/Vienna
BEGIN:VEVENT
SUMMARY:Salon of Open Secrets - SOS: “New materialism\, feminist practic
 es”
DTSTART;TZID=Europe/Vienna:20210310T170000
DTSTAMP:20260424T183852Z
UID:9fad628c3548eb4d8f12e8394458b0ee@www.akbild.ac.at
CATEGORIES:Vorträge / Veranstaltungen
CREATED:20220312T170156Z
DESCRIPTION:with Karin Reisinger\, Patricia J. Reis\, Taguhi Torosyan\, St
 efanie Wuschitz\, Barbara Huber and Karina Jarrett\n\n\n Event within the 
 Frame of\n \n  100 years of Admitting Women to Study at the Academy of Fin
 e Arts Vienna
LAST-MODIFIED:20240802T103022Z
URL:https://www.akbild.ac.at/en/university/events/lectures_events/2021/sal
 on-of-open-secrets-sos-new-materialism-feminist-practices
END:VEVENT
BEGIN:VTIMEZONE
TZID:Europe/Vienna
X-LIC-LOCATION:Europe/Vienna
BEGIN:STANDARD
DTSTART:20201025T020000
TZNAME:CET
TZOFFSETFROM:+0200
TZOFFSETTO:+0100
END:STANDARD
END:VTIMEZONE
END:VCALENDAR
