BEGIN:VCALENDAR
VERSION:2.0
PRODID:-//Plone.org//NONSGML plone.app.event//EN
X-WR-TIMEZONE:Europe/Vienna
BEGIN:VEVENT
SUMMARY:Walk & Talk to the Bear Fountain by sculptor Hanna Gärtner
DTSTART;TZID=Europe/Vienna:20210616T170000
DTSTAMP:20260419T132240Z
UID:4972a714f0ec5589bc940df1a6e202da@www.akbild.ac.at
CATEGORIES:Vorträge / Veranstaltungen
CREATED:20220312T170248Z
DESCRIPTION:with Ao.Univ.Prof. Dr. Sabine Plakolm\, Institute for Art Hist
 ory\, Building Research and Preservation of Monuments\, Vienna University 
 of Technology.\n\n\n Event within the Frame of\n \n  \n   \n    \n     \n 
      100 years of Admitting Women to Study at the Academy of Fine Arts Vie
 nna
LAST-MODIFIED:20240802T103022Z
URL:https://www.akbild.ac.at/en/university/events/lectures_events/2021/wal
 k-talk-to-the-bear-fountain-by-sculptor-hanna-gaertner
END:VEVENT
BEGIN:VTIMEZONE
TZID:Europe/Vienna
X-LIC-LOCATION:Europe/Vienna
BEGIN:DAYLIGHT
DTSTART:20210328T030000
TZNAME:CEST
TZOFFSETFROM:+0100
TZOFFSETTO:+0200
END:DAYLIGHT
END:VTIMEZONE
END:VCALENDAR
