BEGIN:VCALENDAR
VERSION:2.0
PRODID:-//Plone.org//NONSGML plone.app.event//EN
X-WR-TIMEZONE:Europe/Vienna
BEGIN:VEVENT
SUMMARY:Accessibility Day "Screen Reader – Positions on Accessibility"
DTSTART;TZID=Europe/Vienna:20221117T093000
DTEND;TZID=Europe/Vienna:20221117T190000
DTSTAMP:20260424T130135Z
UID:78a62787c6724a57ac62659844a40747@www.akbild.ac.at
CATEGORIES:Vorträge / Veranstaltungen
CREATED:20221025T131649Z
DESCRIPTION:Organised by the University Library and the Student Welcome Ce
 nter the Accessibility Day aims to raise awareness of the multidimensional
  topic of accessibility with a varied programme for many target groups.
LAST-MODIFIED:20240802T103022Z
URL:https://www.akbild.ac.at/en/university/events/lectures_events/2022/acc
 essibility-day-screen-reader-positions-an-accessibility
END:VEVENT
BEGIN:VTIMEZONE
TZID:Europe/Vienna
X-LIC-LOCATION:Europe/Vienna
BEGIN:STANDARD
DTSTART:20221030T020000
TZNAME:CET
TZOFFSETFROM:+0200
TZOFFSETTO:+0100
END:STANDARD
END:VTIMEZONE
END:VCALENDAR
