BEGIN:VCALENDAR
VERSION:2.0
PRODID:-//Plone.org//NONSGML plone.app.event//EN
X-WR-TIMEZONE:Europe/Vienna
BEGIN:VEVENT
SUMMARY:Invitation to Studio Visit
DTSTART;TZID=Europe/Vienna:20220519T180000
DTSTAMP:20260424T205328Z
UID:4212c7128c7e48138a4951e8d0c5356d@www.akbild.ac.at
CATEGORIES:Vorträge / Veranstaltungen
CREATED:20220512T100732Z
DESCRIPTION:Studio-Visit with Barbara Pflanzner as part of the Academy Stu
 dio Program.
LAST-MODIFIED:20240802T103022Z
URL:https://www.akbild.ac.at/en/university/events/lectures_events/2022/inv
 itation-to-studio-visit
END:VEVENT
BEGIN:VTIMEZONE
TZID:Europe/Vienna
X-LIC-LOCATION:Europe/Vienna
BEGIN:DAYLIGHT
DTSTART:20220327T030000
TZNAME:CEST
TZOFFSETFROM:+0100
TZOFFSETTO:+0200
END:DAYLIGHT
END:VTIMEZONE
END:VCALENDAR
