BEGIN:VCALENDAR
VERSION:2.0
PRODID:-//Plone.org//NONSGML plone.app.event//EN
X-WR-TIMEZONE:Europe/Vienna
BEGIN:VEVENT
SUMMARY:Academy Auction 2023
DTSTART;VALUE=DATE:20230105
DTEND;VALUE=DATE:20230121
DTSTAMP:20260425T222120Z
UID:11f7e69ad361475eb6b8ac3fffc2b474@www.akbild.ac.at
CATEGORIES:Vorträge / Veranstaltungen
CREATED:20220923T125826Z
DESCRIPTION:Online on the website of the Dorotheum to support students of 
 the Academy of Fine Arts Vienna and associations that care for refugees in
  Austria.
LAST-MODIFIED:20250919T125606Z
URL:https://www.akbild.ac.at/en/university/events/lectures_events/2023/aca
 demy-auction-2023
END:VEVENT
END:VCALENDAR
