BEGIN:VCALENDAR
VERSION:2.0
PRODID:-//Plone.org//NONSGML plone.app.event//EN
X-WR-TIMEZONE:Europe/Vienna
BEGIN:VEVENT
SUMMARY:Academy Studio Program
DTSTART;TZID=Europe/Vienna:20230914T180000
DTSTAMP:20260424T131907Z
UID:6767492dd19645df8d828e2593f4dc18@www.akbild.ac.at
CATEGORIES:Vorträge / Veranstaltungen
CREATED:20230831T125855Z
DESCRIPTION:Guided tour through the studios with Nina Schedlmayer\, journa
 list and art critic.
LAST-MODIFIED:20240802T103019Z
URL:https://www.akbild.ac.at/en/university/events/lectures_events/2023/aca
 demy-studio-program
END:VEVENT
BEGIN:VTIMEZONE
TZID:Europe/Vienna
X-LIC-LOCATION:Europe/Vienna
BEGIN:DAYLIGHT
DTSTART:20230326T030000
TZNAME:CEST
TZOFFSETFROM:+0100
TZOFFSETTO:+0200
END:DAYLIGHT
END:VTIMEZONE
END:VCALENDAR
