BEGIN:VCALENDAR
VERSION:2.0
PRODID:-//Plone.org//NONSGML plone.app.event//EN
X-WR-TIMEZONE:Europe/Vienna
BEGIN:VEVENT
SUMMARY:Acousmatic Festival | Young Lion:ess Wettbewerb | Composers Portra
 its
DTSTART;VALUE=DATE:20231027
DTEND;VALUE=DATE:20231030
DTSTAMP:20260425T121723Z
UID:59d99282d48f45ea94440f83d85ae113@www.akbild.ac.at
CATEGORIES:Vorträge / Veranstaltungen
CREATED:20231023T092704Z
DESCRIPTION:The great festival for acousmatic music in Vienna is pleased 
 to welcome you for three concert evenings with the Vienna Akusmonium (loud
 speaker orchestra) in the columned hall of the Academy.
LAST-MODIFIED:20240802T103019Z
URL:https://www.akbild.ac.at/en/university/events/lectures_events/2023/aco
 usmatic-festival-young-lion-ess-wettbewerb-composers-portraits
END:VEVENT
END:VCALENDAR
