BEGIN:VCALENDAR
VERSION:2.0
PRODID:-//Plone.org//NONSGML plone.app.event//EN
X-WR-TIMEZONE:Europe/Vienna
BEGIN:VEVENT
SUMMARY:How to work self-determined and non-linear!
DTSTART;TZID=Europe/Vienna:20231116T140000
DTEND;TZID=Europe/Vienna:20231116T160000
DTSTAMP:20260425T121458Z
UID:db4969f89a354d33a944526506d2507e@www.akbild.ac.at
CATEGORIES:Vorträge / Veranstaltungen
CREATED:20231027T090127Z
DESCRIPTION:Workshop by Verena Dauerer. Organized by the Knowledge Transfe
 r Center of the Academy of Fine Arts Vienna.
LAST-MODIFIED:20240802T103019Z
URL:https://www.akbild.ac.at/en/university/events/lectures_events/2023/how
 -to-work-self-determined-and-non-linear
END:VEVENT
BEGIN:VTIMEZONE
TZID:Europe/Vienna
X-LIC-LOCATION:Europe/Vienna
BEGIN:STANDARD
DTSTART:20231029T020000
TZNAME:CET
TZOFFSETFROM:+0200
TZOFFSETTO:+0100
END:STANDARD
END:VTIMEZONE
END:VCALENDAR
