BEGIN:VCALENDAR
VERSION:2.0
PRODID:-//Plone.org//NONSGML plone.app.event//EN
X-WR-TIMEZONE:Europe/Vienna
BEGIN:VEVENT
SUMMARY:Nature and Man - How do contemporary visual artists position thems
 elves in this complex field of reference?
DTSTART;TZID=Europe/Vienna:20230621T190000
DTSTAMP:20260423T230153Z
UID:c70dd01df54b46cba66980114240bd81@www.akbild.ac.at
CATEGORIES:Vorträge / Veranstaltungen
CREATED:20230524T100423Z
DESCRIPTION:A cooperation of the Wiener Zeitung\, the Academy of Fine Arts
  Vienna and the Künstlerhaus Wien. Discussion in German.
LAST-MODIFIED:20240802T103019Z
URL:https://www.akbild.ac.at/en/university/events/lectures_events/2023/nat
 ure-and-man-how-do-contemporary-visual-artists-position-themselves-in-this
 -complex-field-of-reference
END:VEVENT
BEGIN:VTIMEZONE
TZID:Europe/Vienna
X-LIC-LOCATION:Europe/Vienna
BEGIN:DAYLIGHT
DTSTART:20230326T030000
TZNAME:CEST
TZOFFSETFROM:+0100
TZOFFSETTO:+0200
END:DAYLIGHT
END:VTIMEZONE
END:VCALENDAR
