BEGIN:VCALENDAR
VERSION:2.0
PRODID:-//Plone.org//NONSGML plone.app.event//EN
X-WR-TIMEZONE:Europe/Vienna
BEGIN:VEVENT
SUMMARY:OPEN ARTS
DTSTART;TZID=Europe/Vienna:20230530T180000
DTEND;TZID=Europe/Vienna:20230530T210000
DTSTAMP:20260424T071139Z
UID:07555b8c49be43e89afe68be2590edc1@www.akbild.ac.at
CATEGORIES:Vorträge / Veranstaltungen
CREATED:20230413T085343Z
DESCRIPTION:The Open Innovation in Science Center of the Ludwig Boltzmann 
 Gesellschaft and the Knowledge Transfer Centre of the Academy of Fine Arts
  Vienna cordially invite you to the final event of the long-lasting cooper
 ation OPEN ARTS.
LAST-MODIFIED:20240802T103019Z
URL:https://www.akbild.ac.at/en/university/events/lectures_events/2023/ope
 n-arts
END:VEVENT
BEGIN:VTIMEZONE
TZID:Europe/Vienna
X-LIC-LOCATION:Europe/Vienna
BEGIN:DAYLIGHT
DTSTART:20230326T030000
TZNAME:CEST
TZOFFSETFROM:+0100
TZOFFSETTO:+0200
END:DAYLIGHT
END:VTIMEZONE
END:VCALENDAR
