BEGIN:VCALENDAR
VERSION:2.0
PRODID:-//Plone.org//NONSGML plone.app.event//EN
X-WR-TIMEZONE:Europe/Vienna
BEGIN:VEVENT
SUMMARY:Study and life in Reunion
DTSTART;TZID=Europe/Vienna:20231018T143000
DTSTAMP:20260424T120607Z
UID:20a716bd298f4e258bdb0c1782ca42b5@www.akbild.ac.at
CATEGORIES:Vorträge / Veranstaltungen
CREATED:20231012T113424Z
DESCRIPTION:Isabelle from La Réunion will show a short film about studyin
 g and living there and will be available for questions afterwards.
LAST-MODIFIED:20240802T103019Z
URL:https://www.akbild.ac.at/en/university/events/lectures_events/2023/stu
 dy-and-life-in-reunion
END:VEVENT
BEGIN:VTIMEZONE
TZID:Europe/Vienna
X-LIC-LOCATION:Europe/Vienna
BEGIN:DAYLIGHT
DTSTART:20230326T030000
TZNAME:CEST
TZOFFSETFROM:+0100
TZOFFSETTO:+0200
END:DAYLIGHT
END:VTIMEZONE
END:VCALENDAR
