BEGIN:VCALENDAR
VERSION:2.0
PRODID:-//Plone.org//NONSGML plone.app.event//EN
X-WR-TIMEZONE:Europe/Vienna
BEGIN:VEVENT
SUMMARY:Submit! Successfully submit artistic projects.
DTSTART;TZID=Europe/Vienna:20231031T150000
DTEND;TZID=Europe/Vienna:20231031T170000
DTSTAMP:20260424T112745Z
UID:ec5a2279dbfa420399dd5918961ddd7c@www.akbild.ac.at
CATEGORIES:Vorträge / Veranstaltungen
CREATED:20230914T100625Z
DESCRIPTION:Workshop for students by Ingeborg ErhartInsights – Basics 
 – Methods – Evaluation using the example of project financingFully boo
 ked! No further registrations are possible.
LAST-MODIFIED:20240802T103019Z
URL:https://www.akbild.ac.at/en/university/events/lectures_events/2023/sub
 mit-successfully-submit-artistic-projects
END:VEVENT
BEGIN:VTIMEZONE
TZID:Europe/Vienna
X-LIC-LOCATION:Europe/Vienna
BEGIN:STANDARD
DTSTART:20231029T020000
TZNAME:CET
TZOFFSETFROM:+0200
TZOFFSETTO:+0100
END:STANDARD
END:VTIMEZONE
END:VCALENDAR
