BEGIN:VCALENDAR
VERSION:2.0
PRODID:-//Plone.org//NONSGML plone.app.event//EN
X-WR-TIMEZONE:Europe/Vienna
BEGIN:VEVENT
SUMMARY:Expert Talk: Artists’ Archives and Estates
DTSTART;TZID=Europe/Vienna:20240926T173000
DTSTAMP:20260426T003024Z
UID:c7547f3499f44c7bb1b2c5ecd67e0cc4@www.akbild.ac.at
CATEGORIES:Vorträge / Veranstaltungen
CREATED:20240925T133729Z
DESCRIPTION:This event is part of Curated by.
LAST-MODIFIED:20250212T090630Z
URL:https://www.akbild.ac.at/en/university/events/lectures_events/2024/exp
 ert-talk-artists-archives-and-estates
END:VEVENT
BEGIN:VTIMEZONE
TZID:Europe/Vienna
X-LIC-LOCATION:Europe/Vienna
BEGIN:DAYLIGHT
DTSTART:20240331T030000
TZNAME:CEST
TZOFFSETFROM:+0100
TZOFFSETTO:+0200
END:DAYLIGHT
END:VTIMEZONE
END:VCALENDAR
