BEGIN:VCALENDAR
VERSION:2.0
PRODID:-//Plone.org//NONSGML plone.app.event//EN
X-WR-TIMEZONE:Europe/Vienna
BEGIN:VEVENT
SUMMARY:Change of perspective. One object\, three perspectives
DTSTART;TZID=Europe/Vienna:20240524T180000
DTEND;TZID=Europe/Vienna:20240524T183000
DTSTAMP:20260423T145157Z
UID:ee80e20a19b146c6abfc03ef0acf13f4@www.akbild.ac.at
CATEGORIES:Vorträge / Veranstaltungen
CREATED:20240422T085244Z
DESCRIPTION:Time has left its mark on a drawing by an unknown artist. We l
 ook at the drawing from three different scientific perspectives: a restore
 r\, an art historian and a chemist jointly reflect on the significance and
  preservation of this unique work of art.
LAST-MODIFIED:20240802T103019Z
URL:https://www.akbild.ac.at/en/university/events/lectures_events/2024/lan
 ge-nacht-der-forschung-2024/change-of-perspective-one-object-three-perspec
 tives
END:VEVENT
BEGIN:VTIMEZONE
TZID:Europe/Vienna
X-LIC-LOCATION:Europe/Vienna
BEGIN:DAYLIGHT
DTSTART:20240331T030000
TZNAME:CEST
TZOFFSETFROM:+0100
TZOFFSETTO:+0200
END:DAYLIGHT
END:VTIMEZONE
END:VCALENDAR
