BEGIN:VCALENDAR
VERSION:2.0
PRODID:-//Plone.org//NONSGML plone.app.event//EN
X-WR-TIMEZONE:Europe/Vienna
BEGIN:VEVENT
SUMMARY:Fashion and the Far Right: The New Complexity in Style
DTSTART;TZID=Europe/Vienna:20240524T170000
DTSTAMP:20260424T235956Z
UID:fe70d21b75824c159f10d82eb0bf72ea@www.akbild.ac.at
CATEGORIES:Vorträge / Veranstaltungen
CREATED:20240422T092927Z
DESCRIPTION:NeoFashFarRight is an in-depth fashion studies research that i
 nvestigates the current role of fashion for the far right in Europe and th
 e US. At the “Lange Nacht der Forschung” Teresa Fischer (MA\, PraeDoc)
  will give a short introduction to the project and present first research 
 results. Visitors will also have the chance of listening into “Style Str
 uggles”\, our freshly produced podcast series.
LAST-MODIFIED:20240802T103019Z
URL:https://www.akbild.ac.at/en/university/events/lectures_events/2024/lan
 ge-nacht-der-forschung-2024/fashion-and-the-far-right-the-new-complexity-i
 n-style-2
END:VEVENT
BEGIN:VTIMEZONE
TZID:Europe/Vienna
X-LIC-LOCATION:Europe/Vienna
BEGIN:DAYLIGHT
DTSTART:20240331T030000
TZNAME:CEST
TZOFFSETFROM:+0100
TZOFFSETTO:+0200
END:DAYLIGHT
END:VTIMEZONE
END:VCALENDAR
