BEGIN:VCALENDAR
VERSION:2.0
PRODID:-//Plone.org//NONSGML plone.app.event//EN
X-WR-TIMEZONE:Europe/Vienna
BEGIN:VEVENT
SUMMARY:Science Cube - Presentations by the Institute of Natural Sciences 
 and Technology in the Art
DTSTART;TZID=Europe/Vienna:20240524T170000
DTEND;TZID=Europe/Vienna:20240524T220000
DTSTAMP:20260423T204238Z
UID:6cabb59c79204f959e1b0183e09c1282@www.akbild.ac.at
CATEGORIES:Vorträge / Veranstaltungen
CREATED:20240422T083817Z
DESCRIPTION:In and around the Science Cube\, the Institute presents its re
 search and current projects on material science in the arts in the form of
  short films and posters.
LAST-MODIFIED:20240802T103019Z
URL:https://www.akbild.ac.at/en/university/events/lectures_events/2024/lan
 ge-nacht-der-forschung-2024/science-cube-presentations-by-the-institute-of
 -natural-sciences-and-technology-in-the-art
END:VEVENT
BEGIN:VTIMEZONE
TZID:Europe/Vienna
X-LIC-LOCATION:Europe/Vienna
BEGIN:DAYLIGHT
DTSTART:20240331T030000
TZNAME:CEST
TZOFFSETFROM:+0100
TZOFFSETTO:+0200
END:DAYLIGHT
END:VTIMEZONE
END:VCALENDAR
