BEGIN:VCALENDAR
VERSION:2.0
PRODID:-//Plone.org//NONSGML plone.app.event//EN
X-WR-TIMEZONE:Europe/Vienna
BEGIN:VEVENT
SUMMARY:[em]The Holy Kinship by Lucas Cranach the Elder[/em] - Insight int
 o a restoration project at the Paintings Gallery
DTSTART;TZID=Europe/Vienna:20240524T190000
DTEND;TZID=Europe/Vienna:20240524T220000
DTSTAMP:20260423T154700Z
UID:d5847b4b84ea4dcbaf10d67fcd4ffd4d@www.akbild.ac.at
CATEGORIES:Vorträge / Veranstaltungen
CREATED:20240422T090828Z
DESCRIPTION:The Holy Kinship by Lucas Cranach the Elder (1510/1512) is one
  of the highlights of the Paintings Gallery collection. We explain the con
 servation challenges of the panel painting and take a look beneath the pai
 nt layer using infrared reflectography.
LAST-MODIFIED:20240802T103019Z
URL:https://www.akbild.ac.at/en/university/events/lectures_events/2024/lan
 ge-nacht-der-forschung-2024/the-holy-kinship-by-lucas-cranach-the-elder-in
 sight-into-a-restoration-project-at-the-paintings-gallery
END:VEVENT
BEGIN:VTIMEZONE
TZID:Europe/Vienna
X-LIC-LOCATION:Europe/Vienna
BEGIN:DAYLIGHT
DTSTART:20240331T030000
TZNAME:CEST
TZOFFSETFROM:+0100
TZOFFSETTO:+0200
END:DAYLIGHT
END:VTIMEZONE
END:VCALENDAR
