BEGIN:VCALENDAR
VERSION:2.0
PRODID:-//Plone.org//NONSGML plone.app.event//EN
X-WR-TIMEZONE:Europe/Vienna
BEGIN:VEVENT
SUMMARY:Pass Egal Wahl
DTSTART;TZID=Europe/Vienna:20240923T100000
DTEND;TZID=Europe/Vienna:20240924T140000
DTSTAMP:20260423T230013Z
UID:309ceeb1c589471e8b9c8d1162aa2160@www.akbild.ac.at
CATEGORIES:Vorträge / Veranstaltungen
CREATED:20240909T085344Z
DESCRIPTION:Who would you vote for if you were eligible to vote? In the "P
 ass Egal Wahl" organized by SOS Mitmensch\, everyone can (symbolically) ca
 st their vote - their passport does not matter! There are numerous public 
 polling stations in all federal states\, and many schools are also involve
 d in the initiative. As part of this\, the Academy of Fine Arts is holding
  the first university-internal Pass Egal Wahl in Austria.
LAST-MODIFIED:20250212T090628Z
URL:https://www.akbild.ac.at/en/university/events/lectures_events/2024/pas
 s-egal-wahl
END:VEVENT
BEGIN:VTIMEZONE
TZID:Europe/Vienna
X-LIC-LOCATION:Europe/Vienna
BEGIN:DAYLIGHT
DTSTART:20240331T030000
TZNAME:CEST
TZOFFSETFROM:+0100
TZOFFSETTO:+0200
END:DAYLIGHT
END:VTIMEZONE
END:VCALENDAR
