BEGIN:VCALENDAR
VERSION:2.0
PRODID:-//Plone.org//NONSGML plone.app.event//EN
X-WR-TIMEZONE:Europe/Vienna
BEGIN:VEVENT
SUMMARY:"Why didn't you say no?" Lecture on the topic of sexual violence/h
 arassment at universities
DTSTART;TZID=Europe/Vienna:20241126T140000
DTEND;TZID=Europe/Vienna:20241126T153000
DTSTAMP:20260425T135542Z
UID:f21e2ecb0fc4431388dacf96e5dbd160@www.akbild.ac.at
CATEGORIES:Vorträge / Veranstaltungen
CREATED:20241029T141924Z
DESCRIPTION:In this mix of online lecture and workshop\, Franziska Saxler 
 will present\, among other things\, her network #metooscience. This is a c
 ross-university event of the AG Geschlechterbasierte Gewalt of the Gender 
 Platform Austria network.
LAST-MODIFIED:20250212T090501Z
URL:https://www.akbild.ac.at/en/university/events/lectures_events/2024/why
 -didnt-you-say-no-lecture-on-the-topic-of-sexual-violence-harassment-at-un
 iversities
END:VEVENT
BEGIN:VTIMEZONE
TZID:Europe/Vienna
X-LIC-LOCATION:Europe/Vienna
BEGIN:STANDARD
DTSTART:20241027T020000
TZNAME:CET
TZOFFSETFROM:+0200
TZOFFSETTO:+0100
END:STANDARD
END:VTIMEZONE
END:VCALENDAR
