BEGIN:VCALENDAR
VERSION:2.0
PRODID:-//Plone.org//NONSGML plone.app.event//EN
X-WR-TIMEZONE:Europe/Vienna
BEGIN:VEVENT
SUMMARY:Akademieball
DTSTART;TZID=Europe/Vienna:20250314T200000
DTSTAMP:20260421T003500Z
UID:2b3f509420db4a76804db1300aca6298@www.akbild.ac.at
CATEGORIES:Vorträge / Veranstaltungen
CREATED:20250228T105340Z
DESCRIPTION:The students of Akademie\, Angewandte and MDW are throwing a B
 all!
LAST-MODIFIED:20250303T140136Z
URL:https://www.akbild.ac.at/en/university/events/lectures_events/2025/aka
 demieball
END:VEVENT
BEGIN:VTIMEZONE
TZID:Europe/Vienna
X-LIC-LOCATION:Europe/Vienna
BEGIN:STANDARD
DTSTART:20241027T020000
TZNAME:CET
TZOFFSETFROM:+0200
TZOFFSETTO:+0100
END:STANDARD
END:VTIMEZONE
END:VCALENDAR
