BEGIN:VCALENDAR
VERSION:2.0
PRODID:-//Plone.org//NONSGML plone.app.event//EN
X-WR-TIMEZONE:Europe/Vienna
BEGIN:VEVENT
SUMMARY:Book presentation [em]Dead Dove: Do Not Eat Perpetual Stew[/em]
DTSTART;TZID=Europe/Vienna:20250611T173000
DTSTAMP:20260423T084445Z
UID:b635891e29ed4d968cd29d5e3af16114@www.akbild.ac.at
CATEGORIES:Vorträge / Veranstaltungen
CREATED:20250604T091452Z
DESCRIPTION:The publication Dead Dove: Do Not Eat Perpetual Stew is the se
 cond book in the Fine Companions series by the Academy of Fine Arts Vienna
  in collaboration with Mark Pezinger Books.
LAST-MODIFIED:20250611T143117Z
URL:https://www.akbild.ac.at/en/university/events/lectures_events/2025/boo
 k-presentation-em-dead-dove-do-not-eat-perpetual-stew-em
END:VEVENT
BEGIN:VTIMEZONE
TZID:Europe/Vienna
X-LIC-LOCATION:Europe/Vienna
BEGIN:DAYLIGHT
DTSTART:20250330T030000
TZNAME:CEST
TZOFFSETFROM:+0100
TZOFFSETTO:+0200
END:DAYLIGHT
END:VTIMEZONE
END:VCALENDAR
