BEGIN:VCALENDAR
VERSION:2.0
PRODID:-//Plone.org//NONSGML plone.app.event//EN
X-WR-TIMEZONE:Europe/Vienna
BEGIN:VEVENT
SUMMARY:Ein Fest für VALIE EXPORT – Friends\, Fans & Feminists
DTSTART;TZID=Europe/Vienna:20250521T180000
DTEND;TZID=Europe/Vienna:20250521T230000
DTSTAMP:20260424T172057Z
UID:86214fb00d93411fb0c4aa916779c9ef@www.akbild.ac.at
CATEGORIES:Vorträge / Veranstaltungen
CREATED:20250514T112030Z
DESCRIPTION:An event with contributions from students\, teachers and profe
 ssors\, and alumni of the Academy of Fine Arts Vienna.
LAST-MODIFIED:20250514T112035Z
URL:https://www.akbild.ac.at/en/university/events/lectures_events/2025/ein
 -fest-fur-valie-export-friends-fans-feminists
END:VEVENT
BEGIN:VTIMEZONE
TZID:Europe/Vienna
X-LIC-LOCATION:Europe/Vienna
BEGIN:DAYLIGHT
DTSTART:20250330T030000
TZNAME:CEST
TZOFFSETFROM:+0100
TZOFFSETTO:+0200
END:DAYLIGHT
END:VTIMEZONE
END:VCALENDAR
