BEGIN:VCALENDAR
VERSION:2.0
PRODID:-//Plone.org//NONSGML plone.app.event//EN
X-WR-TIMEZONE:Europe/Vienna
BEGIN:VEVENT
SUMMARY:Gender-based Violence in Academia. A lecture by Dr. Anke Lipinsky
DTSTART;TZID=Europe/Vienna:20251105T120000
DTSTAMP:20260423T230055Z
UID:bd7f42b78b94425ca97e9f58060890c9@www.akbild.ac.at
CATEGORIES:Vorträge / Veranstaltungen
CREATED:20250912T073312Z
DESCRIPTION:The Coordination Office for Women's Advancement | Gender Studi
 es | Diversity invites you to a lecture by  Dr. Anke Lipinsky on the topi
 c of gender-based violence in academic institutions—findings from the EU
  project UniSAFE—Gender-based violence and institutional responses.
LAST-MODIFIED:20251105T075541Z
URL:https://www.akbild.ac.at/en/university/events/lectures_events/2025/gen
 der-based-violence-in-academia-a-lecture-by-dr-anke-lipinsky
END:VEVENT
BEGIN:VTIMEZONE
TZID:Europe/Vienna
X-LIC-LOCATION:Europe/Vienna
BEGIN:STANDARD
DTSTART:20251026T020000
TZNAME:CET
TZOFFSETFROM:+0200
TZOFFSETTO:+0100
END:STANDARD
END:VTIMEZONE
END:VCALENDAR
