BEGIN:VCALENDAR
VERSION:2.0
PRODID:-//Plone.org//NONSGML plone.app.event//EN
X-WR-TIMEZONE:Europe/Vienna
BEGIN:VEVENT
SUMMARY:InDi(e) Day – Inclusion\, Diversity and Education
DTSTART;TZID=Europe/Vienna:20251120T093000
DTEND;TZID=Europe/Vienna:20251120T190000
DTSTAMP:20260424T151837Z
UID:9d0b6caaf3784c5783dbc33f577152da@www.akbild.ac.at
CATEGORIES:Vorträge / Veranstaltungen
CREATED:20251111T095019Z
DESCRIPTION:At InDi(e) Day\, we address the topics of inclusion\, diversit
 y\, and education\, put light on current discourses and perspectives throu
 gh lectures\, discussions\, and artistic interventions\, and make content\
 , potential\, and issues visible and tangible.
LAST-MODIFIED:20251119T150310Z
URL:https://www.akbild.ac.at/en/university/events/lectures_events/2025/ind
 i-e-day-inclusion-diversity-and-education
END:VEVENT
BEGIN:VTIMEZONE
TZID:Europe/Vienna
X-LIC-LOCATION:Europe/Vienna
BEGIN:STANDARD
DTSTART:20251026T020000
TZNAME:CET
TZOFFSETFROM:+0200
TZOFFSETTO:+0100
END:STANDARD
END:VTIMEZONE
END:VCALENDAR
