BEGIN:VCALENDAR
VERSION:2.0
PRODID:-//Plone.org//NONSGML plone.app.event//EN
X-WR-TIMEZONE:Europe/Vienna
BEGIN:VEVENT
SUMMARY:Keynote speech on the Trialog project
DTSTART;TZID=Europe/Vienna:20250306T100000
DTEND;TZID=Europe/Vienna:20250306T113000
DTSTAMP:20260424T090938Z
UID:89c0b3599fe0418f92de889fb8d12e84@www.akbild.ac.at
CATEGORIES:Vorträge / Veranstaltungen
CREATED:20250212T085019Z
DESCRIPTION:This event is part of  the Trialog formats in March for stude
 nts and all employees of the Academy of Fine Arts Vienna.
LAST-MODIFIED:20250225T102431Z
URL:https://www.akbild.ac.at/en/university/events/lectures_events/2025/key
 note-speech-on-the-trialog-project
END:VEVENT
BEGIN:VTIMEZONE
TZID:Europe/Vienna
X-LIC-LOCATION:Europe/Vienna
BEGIN:STANDARD
DTSTART:20241027T020000
TZNAME:CET
TZOFFSETFROM:+0200
TZOFFSETTO:+0100
END:STANDARD
END:VTIMEZONE
END:VCALENDAR
