BEGIN:VCALENDAR
VERSION:2.0
PRODID:-//Plone.org//NONSGML plone.app.event//EN
X-WR-TIMEZONE:Europe/Vienna
BEGIN:VEVENT
SUMMARY:Smart Map of Jewish History - Geschichte digital erzählt. Project
  presentation with Aliosha Biz
DTSTART;TZID=Europe/Vienna:20251119T183000
DTSTAMP:20260423T013043Z
UID:2f7064cb66c544a18e455a51229f0e93@www.akbild.ac.at
CATEGORIES:Vorträge / Veranstaltungen
CREATED:20251111T093836Z
DESCRIPTION:Smart Map of Jewish History is a research project led by Herbe
 rt Peter\, Institute for Education in the Arts. This evening\, Christoph L
 ind (Injoest)\, Herbert Peter\, and Juraj Sedivy (Comenius University Brat
 islava) will present the two project sections\, Vienna and Lower Austria\,
  provide insights into the project's fundamental ideas\, and showcase init
 ial digital implementations – including interactive 3D models.
LAST-MODIFIED:20251111T094043Z
URL:https://www.akbild.ac.at/en/university/events/lectures_events/2025/sma
 rt-map-of-jewish-history-geschichte-digital-erzahlt-project-presentation-w
 ith-aliosha-biz
END:VEVENT
BEGIN:VTIMEZONE
TZID:Europe/Vienna
X-LIC-LOCATION:Europe/Vienna
BEGIN:STANDARD
DTSTART:20251026T020000
TZNAME:CET
TZOFFSETFROM:+0200
TZOFFSETTO:+0100
END:STANDARD
END:VTIMEZONE
END:VCALENDAR
