BEGIN:VCALENDAR
VERSION:2.0
PRODID:-//Plone.org//NONSGML plone.app.event//EN
X-WR-TIMEZONE:Europe/Vienna
BEGIN:VEVENT
SUMMARY:The secret is that there is no secret
DTSTART;TZID=Europe/Vienna:20250410T190000
DTSTAMP:20260424T135309Z
UID:460fe1d875974ad1b4c37eaac6426b91@www.akbild.ac.at
CATEGORIES:Vorträge / Veranstaltungen
CREATED:20250321T133317Z
DESCRIPTION:A public lecture by Ivet Ćurlin und Nataša Ilić (curatorial
  collective What\, How &amp\; for Whom/WHW).
LAST-MODIFIED:20250411T084144Z
URL:https://www.akbild.ac.at/en/university/events/lectures_events/2025/the
 -secret-is-that-there-is-no-secret
END:VEVENT
BEGIN:VTIMEZONE
TZID:Europe/Vienna
X-LIC-LOCATION:Europe/Vienna
BEGIN:DAYLIGHT
DTSTART:20250330T030000
TZNAME:CEST
TZOFFSETFROM:+0100
TZOFFSETTO:+0200
END:DAYLIGHT
END:VTIMEZONE
END:VCALENDAR
