BEGIN:VCALENDAR
VERSION:2.0
PRODID:-//Plone.org//NONSGML plone.app.event//EN
X-WR-TIMEZONE:Europe/Vienna
BEGIN:VEVENT
SUMMARY:Trialog Workshop - for students and teaching staff
DTSTART;TZID=Europe/Vienna:20250307T090000
DTEND;TZID=Europe/Vienna:20250307T150000
DTSTAMP:20260424T040927Z
UID:8abf574716244f62b97c1fe72ec33fbe@www.akbild.ac.at
CATEGORIES:Workshops
CREATED:20250212T091334Z
DESCRIPTION:Part of the Trialog formats in March for students and all empl
 oyees of the Academy of Fine Arts Vienna.
LAST-MODIFIED:20250219T141836Z
URL:https://www.akbild.ac.at/en/university/events/lectures_events/2025/tri
 alog-workshop-for-students-and-teaching-staff
END:VEVENT
BEGIN:VTIMEZONE
TZID:Europe/Vienna
X-LIC-LOCATION:Europe/Vienna
BEGIN:STANDARD
DTSTART:20241027T020000
TZNAME:CET
TZOFFSETFROM:+0200
TZOFFSETTO:+0100
END:STANDARD
END:VTIMEZONE
END:VCALENDAR
