BEGIN:VCALENDAR
VERSION:2.0
PRODID:-//Plone.org//NONSGML plone.app.event//EN
X-WR-TIMEZONE:Europe/Vienna
BEGIN:VEVENT
SUMMARY:Trialog
DTSTART;TZID=Europe/Vienna:20250306T130000
DTEND;TZID=Europe/Vienna:20250306T143000
DTSTAMP:20260424T035338Z
UID:c38f73d434944b60813be59b989020a4@www.akbild.ac.at
CATEGORIES:Vorträge / Veranstaltungen
CREATED:20250212T085651Z
DESCRIPTION:Part of the Trialog formats in March for students and all empl
 oyees of the Academy of Fine Arts Vienna.
LAST-MODIFIED:20250219T141708Z
URL:https://www.akbild.ac.at/en/university/events/lectures_events/2025/tri
 alog
END:VEVENT
BEGIN:VTIMEZONE
TZID:Europe/Vienna
X-LIC-LOCATION:Europe/Vienna
BEGIN:STANDARD
DTSTART:20241027T020000
TZNAME:CET
TZOFFSETFROM:+0200
TZOFFSETTO:+0100
END:STANDARD
END:VTIMEZONE
END:VCALENDAR
