BEGIN:VCALENDAR
VERSION:2.0
PRODID:-//Plone.org//NONSGML plone.app.event//EN
X-WR-TIMEZONE:Europe/Vienna
BEGIN:VEVENT
SUMMARY:Vienna Pass-Egal-Election at the Academy
DTSTART;TZID=Europe/Vienna:20250327T090000
DTEND;TZID=Europe/Vienna:20250327T150000
DTSTAMP:20260423T114157Z
UID:b5f105235f2b4e9cb4621f4e41613796@www.akbild.ac.at
CREATED:20250313T081715Z
DESCRIPTION:The Equal Opportunities Team (AfG) cordially invites everyone 
 to cast their (symbolic) vote in the Vienna Pass-Egal-Election organized b
 y SOS Mitmensch!
LAST-MODIFIED:20250317T100904Z
URL:https://www.akbild.ac.at/en/university/events/lectures_events/2025/vie
 nna-pass-egal-wahl-at-the-academy
END:VEVENT
BEGIN:VTIMEZONE
TZID:Europe/Vienna
X-LIC-LOCATION:Europe/Vienna
BEGIN:STANDARD
DTSTART:20241027T020000
TZNAME:CET
TZOFFSETFROM:+0200
TZOFFSETTO:+0100
END:STANDARD
END:VTIMEZONE
END:VCALENDAR
