BEGIN:VCALENDAR
VERSION:2.0
PRODID:-//Plone.org//NONSGML plone.app.event//EN
X-WR-TIMEZONE:Europe/Vienna
BEGIN:VEVENT
SUMMARY:Online Info Meeting „Austrian Art Alumni Award 2026“
DTSTART;TZID=Europe/Vienna:20260306T110000
DTEND;TZID=Europe/Vienna:20260306T120000
DTSTAMP:20260423T084436Z
UID:6a4ed0425970467286923d320d9b5362@www.akbild.ac.at
CATEGORIES:Vorträge / Veranstaltungen
CREATED:20260128T141832Z
DESCRIPTION:This information event will be held in German. In the event\,
  you receive information about the application process for the Call “Aus
 trian Art Alumni Award 2026”. Questions are welcome at the end of the me
 eting.
LAST-MODIFIED:20260216T085916Z
URL:https://www.akbild.ac.at/en/university/events/lectures_events/2026/onl
 ine-info-meeting-austrian-art-alumni-award-2026
END:VEVENT
BEGIN:VTIMEZONE
TZID:Europe/Vienna
X-LIC-LOCATION:Europe/Vienna
BEGIN:STANDARD
DTSTART:20251026T020000
TZNAME:CET
TZOFFSETFROM:+0200
TZOFFSETTO:+0100
END:STANDARD
END:VTIMEZONE
END:VCALENDAR
