BEGIN:VCALENDAR
VERSION:2.0
PRODID:-//Plone.org//NONSGML plone.app.event//EN
X-WR-TIMEZONE:Europe/Vienna
BEGIN:VEVENT
SUMMARY:Speaking in the First Person: Art\, History\, and Afterlives
DTSTART;TZID=Europe/Vienna:20260519T180000
DTEND;TZID=Europe/Vienna:20260519T210000
DTSTAMP:20260421T152004Z
UID:9584f8f7bb4249b496c9244cc2ec33b4@www.akbild.ac.at
CATEGORIES:Vorträge / Veranstaltungen
CREATED:20260421T112311Z
DESCRIPTION:This event takes the landmark publication The Yugoslav Art Spa
 ce: Ješa Denegri in the First Person\, edited by Branislav Dimitrijević 
 and Jelena Vesić\, as a point of departure to reconsider the relevance of
  Ješa Denegri within historical and contemporary artistic frameworks. A c
 ollaborative event by the Kontakt Collection and the Academy of Fine Arts 
 Vienna.
LAST-MODIFIED:20260421T113013Z
URL:https://www.akbild.ac.at/en/university/events/lectures_events/2026/spe
 aking-in-the-first-person-art-history-and-afterlives
END:VEVENT
BEGIN:VTIMEZONE
TZID:Europe/Vienna
X-LIC-LOCATION:Europe/Vienna
BEGIN:DAYLIGHT
DTSTART:20260329T030000
TZNAME:CEST
TZOFFSETFROM:+0100
TZOFFSETTO:+0200
END:DAYLIGHT
END:VTIMEZONE
END:VCALENDAR
