BEGIN:VCALENDAR
VERSION:2.0
PRODID:-//Plone.org//NONSGML plone.app.event//EN
X-WR-TIMEZONE:Europe/Vienna
BEGIN:VEVENT
SUMMARY:Opening: Katja Gürtler – Playboys
DTSTART;TZID=Europe/Vienna:20230329T180000
DTSTAMP:20260424T040958Z
UID:c7f383ce4f304c559e087f7849d0d1cd@www.akbild.ac.at
CATEGORIES:Ausstellungen
CREATED:20230303T162939Z
DESCRIPTION:Opening of an exhibition about dreams\, hopes\, and utopias wi
 th Katja Gürtler as part of the Academy Library’s Wer A… sagt event s
 eries.
LAST-MODIFIED:20240802T102826Z
URL:https://www.akbild.ac.at/en/university/universitylibrary/activities/ex
 hibitions-didactic-program/2023/katja-gurtler-playboys/opening-katja-gurtl
 er
END:VEVENT
BEGIN:VTIMEZONE
TZID:Europe/Vienna
X-LIC-LOCATION:Europe/Vienna
BEGIN:DAYLIGHT
DTSTART:20230326T030000
TZNAME:CEST
TZOFFSETFROM:+0100
TZOFFSETTO:+0200
END:DAYLIGHT
END:VTIMEZONE
END:VCALENDAR
